BEGIN:VCALENDAR
VERSION:2.0
PRODID:-//pretix//pretix.eu//
BEGIN:VTIMEZONE
TZID:Europe/Berlin
BEGIN:STANDARD
DTSTART:20001029T040000
RRULE:FREQ=YEARLY;BYDAY=-1SU;BYMONTH=10
TZNAME:CET
TZOFFSETFROM:+0200
TZOFFSETTO:+0100
END:STANDARD
BEGIN:DAYLIGHT
DTSTART:20000326T030000
RRULE:FREQ=YEARLY;BYDAY=-1SU;BYMONTH=3
TZNAME:CEST
TZOFFSETFROM:+0100
TZOFFSETTO:+0200
END:DAYLIGHT
END:VTIMEZONE
BEGIN:VEVENT
UID:pretix-jimev-muenchen-con-25-0@tickets.jimev.de
DTSTART;TZID=Europe/Berlin:20251105T180000
DTEND;TZID=Europe/Berlin:20251109T160000
DESCRIPTION:Tickets: https://tickets.jimev.de/muenchen-con-25/\nVeranstalte
 r: Jonglieren in München e.V.
DTSTAMP:20260421T083200Z
LOCATION:Anton-Fingerle-Zentrum\, Schlierseestraße 47\, 81539 München
SUMMARY:München Con 25
END:VEVENT
END:VCALENDAR
